BEGIN:VCALENDAR
VERSION:2.0
PRODID:-//SatCom Industry Association (SIA-India) - ECPv6.15.20//NONSGML v1.0//EN
CALSCALE:GREGORIAN
METHOD:PUBLISH
X-WR-CALNAME:SatCom Industry Association (SIA-India)
X-ORIGINAL-URL:https://www.sia-india.com
X-WR-CALDESC:Events for SatCom Industry Association (SIA-India)
REFRESH-INTERVAL;VALUE=DURATION:PT1H
X-Robots-Tag:noindex
X-PUBLISHED-TTL:PT1H
BEGIN:VTIMEZONE
TZID:Asia/Kolkata
BEGIN:STANDARD
TZOFFSETFROM:+0530
TZOFFSETTO:+0530
TZNAME:IST
DTSTART:20201231T183000
END:STANDARD
END:VTIMEZONE
BEGIN:VEVENT
DTSTART;TZID=Asia/Kolkata:20220404T023000
DTEND;TZID=Asia/Kolkata:20220407T113000
DTSTAMP:20260422T234107
CREATED:20220302T112444Z
LAST-MODIFIED:20220302T112444Z
UID:1059-1649039400-1649331000@www.sia-india.com
SUMMARY:37th Space Symposium
DESCRIPTION:37th Space Symposium
URL:https://www.sia-india.com/event/37th-space-symposium/
CATEGORIES:International Events
END:VEVENT
BEGIN:VEVENT
DTSTART;TZID=Asia/Kolkata:20220408T100000
DTEND;TZID=Asia/Kolkata:20220408T110000
DTSTAMP:20260422T234107
CREATED:20220407T113115Z
LAST-MODIFIED:20220407T122155Z
UID:1420-1649412000-1649415600@www.sia-india.com
SUMMARY:Leveraging connectivity everywhere to drive sustainable growth in Asia region
DESCRIPTION:Register Now
URL:https://www.sia-india.com/event/leveraging-connectivity-everywhere-to-drive-sustainable-growth-in-asia-region/
CATEGORIES:SIA-India Events
END:VEVENT
BEGIN:VEVENT
DTSTART;VALUE=DATE:20220411
DTEND;VALUE=DATE:20220412
DTSTAMP:20260422T234107
CREATED:20220225T042345Z
LAST-MODIFIED:20220225T042420Z
UID:946-1649701800-1649788199@www.sia-india.com
SUMMARY:Opening up of the skies –Limitless Opportunities
DESCRIPTION:WebinarThe inaugural webinar will discuss and outline the limitless opportunities that India provides in the areas of Space Technology\, Manufacturing\, New Application\, Services and Investment. The country is at a cusp to become a highly potential market for increased use of satellite applications which can potentially attract Billions of Dollars as FDI which will further boost local manufacturing\, generate millions of jobs\, contribute substantially to the GDP and hold a significant share in the global Space Market.
URL:https://www.sia-india.com/event/opening-up-of-the-skies-limitless-opportunities/
LOCATION:Virtual
CATEGORIES:SIA-India Events,Virtual
END:VEVENT
BEGIN:VEVENT
DTSTART;VALUE=DATE:20220424
DTEND;VALUE=DATE:20220426
DTSTAMP:20260422T234107
CREATED:20220302T112514Z
LAST-MODIFIED:20220302T112514Z
UID:1062-1650825000-1650997799@www.sia-india.com
SUMMARY:Military Space Disruptive Technology
DESCRIPTION:Military Space Disruptive Technology
URL:https://www.sia-india.com/event/military-space-disruptive-technology/
CATEGORIES:International Events
END:VEVENT
BEGIN:VEVENT
DTSTART;TZID=Asia/Kolkata:20220427T023000
DTEND;TZID=Asia/Kolkata:20220428T113000
DTSTAMP:20260422T234107
CREATED:20220302T112543Z
LAST-MODIFIED:20220302T112543Z
UID:1065-1651026600-1651145400@www.sia-india.com
SUMMARY:Military Space Situational Awareness
DESCRIPTION:Military Space Situational Awareness
URL:https://www.sia-india.com/event/military-space-situational-awareness/
CATEGORIES:International Events
END:VEVENT
BEGIN:VEVENT
DTSTART;VALUE=DATE:20220427
DTEND;VALUE=DATE:20220428
DTSTAMP:20260422T234107
CREATED:20220303T062558Z
LAST-MODIFIED:20220310T125034Z
UID:1071-1651084200-1651170599@www.sia-india.com
SUMMARY:The Precision Farming Connection (Session 3 &4)
DESCRIPTION:The Precision Farming Connection (Session 3 &4)
URL:https://www.sia-india.com/event/the-precision-farming-connection-session-3-4-2/
CATEGORIES:International Events
ATTACH;FMTTYPE=image/jpeg:https://www.sia-india.com/wp-content/uploads/2022/03/EVENT-banner-1.jpg
END:VEVENT
BEGIN:VEVENT
DTSTART;TZID=Asia/Kolkata:20220429T040000
DTEND;TZID=Asia/Kolkata:20220429T113000
DTSTAMP:20260422T234107
CREATED:20220303T064128Z
LAST-MODIFIED:20220303T064128Z
UID:1124-1651204800-1651231800@www.sia-india.com
SUMMARY:FOV India 2022
DESCRIPTION:Over the last four years\, the battleground for video streaming services has slowly been shifting from the United States to India.  According to a report by Boston Consulting Group\, the OTT market in India is the fourth largest in the world and is expected to grow to USD$15 billion over the next decade at a CAGR of 25 per cent. Despite this enormous growth\, video streaming platforms are far from making profits and are instead strapped with high content costs\, low ARPUs\, an overcrowded marketplace with too many consumer options\, and the perennial challenge of piracy. \nHow does one make sense of the video streaming market in India today? Where are the revenues despite its large base of viewers\, and what will drive the next wave of growth for the streaming landscape? The Future of Video India aims to address some of these key questions and look at how business models are changing and adapting in the coming year. Visit https://avia.org/all_events/future-of-video-india-29-april-2022/ for more details about the event.
URL:https://www.sia-india.com/event/fov-india-2022/
CATEGORIES:SIA-India Events
ATTACH;FMTTYPE=image/jpeg:https://www.sia-india.com/wp-content/uploads/2022/03/FOV22-300x300-1.jpg
END:VEVENT
END:VCALENDAR