BEGIN:VCALENDAR
VERSION:2.0
PRODID:-//SatCom Industry Association (SIA-India) - ECPv6.15.20//NONSGML v1.0//EN
CALSCALE:GREGORIAN
METHOD:PUBLISH
X-ORIGINAL-URL:https://www.sia-india.com
X-WR-CALDESC:Events for SatCom Industry Association (SIA-India)
REFRESH-INTERVAL;VALUE=DURATION:PT1H
X-Robots-Tag:noindex
X-PUBLISHED-TTL:PT1H
BEGIN:VTIMEZONE
TZID:Asia/Kolkata
BEGIN:STANDARD
TZOFFSETFROM:+0530
TZOFFSETTO:+0530
TZNAME:IST
DTSTART:20201231T183000
END:STANDARD
END:VTIMEZONE
BEGIN:VEVENT
DTSTART;TZID=Asia/Kolkata:20221013T023000
DTEND;TZID=Asia/Kolkata:20221014T113000
DTSTAMP:20260420T112928
CREATED:20220303T063337Z
LAST-MODIFIED:20220303T063337Z
UID:1115-1665628200-1665747000@www.sia-india.com
SUMMARY:Mil Sat Symposium 2022
DESCRIPTION:Mil Sat Symposium 2022
URL:https://www.sia-india.com/event/mil-sat-symposium-2022/
CATEGORIES:International Events
END:VEVENT
END:VCALENDAR