BEGIN:VCALENDAR
VERSION:2.0
PRODID:-//SatCom Industry Association (SIA-India) - ECPv6.15.20//NONSGML v1.0//EN
CALSCALE:GREGORIAN
METHOD:PUBLISH
X-WR-CALNAME:SatCom Industry Association (SIA-India)
X-ORIGINAL-URL:https://www.sia-india.com
X-WR-CALDESC:Events for SatCom Industry Association (SIA-India)
REFRESH-INTERVAL;VALUE=DURATION:PT1H
X-Robots-Tag:noindex
X-PUBLISHED-TTL:PT1H
BEGIN:VTIMEZONE
TZID:Asia/Kolkata
BEGIN:STANDARD
TZOFFSETFROM:+0530
TZOFFSETTO:+0530
TZNAME:IST
DTSTART:20201231T183000
END:STANDARD
END:VTIMEZONE
BEGIN:VEVENT
DTSTART;VALUE=DATE:20220926
DTEND;VALUE=DATE:20220929
DTSTAMP:20260420T112802
CREATED:20220303T063235Z
LAST-MODIFIED:20220303T063235Z
UID:1109-1664217000-1664476199@www.sia-india.com
SUMMARY:UK Space Conference
DESCRIPTION:UK Space Conference
URL:https://www.sia-india.com/event/uk-space-conference/
CATEGORIES:International Events
END:VEVENT
END:VCALENDAR