BEGIN:VCALENDAR
VERSION:2.0
PRODID:-//SatCom Industry Association (SIA-India) - ECPv6.15.20//NONSGML v1.0//EN
CALSCALE:GREGORIAN
METHOD:PUBLISH
X-ORIGINAL-URL:https://www.sia-india.com
X-WR-CALDESC:Events for SatCom Industry Association (SIA-India)
REFRESH-INTERVAL;VALUE=DURATION:PT1H
X-Robots-Tag:noindex
X-PUBLISHED-TTL:PT1H
BEGIN:VTIMEZONE
TZID:Asia/Kolkata
BEGIN:STANDARD
TZOFFSETFROM:+0530
TZOFFSETTO:+0530
TZNAME:IST
DTSTART:20201231T183000
END:STANDARD
END:VTIMEZONE
BEGIN:VEVENT
DTSTART;VALUE=DATE:20220531
DTEND;VALUE=DATE:20220603
DTSTAMP:20260422T220845
CREATED:20220303T062921Z
LAST-MODIFIED:20220303T062921Z
UID:1091-1654021800-1654280999@www.sia-india.com
SUMMARY:CommunicAsia
DESCRIPTION:CommunicAsia
URL:https://www.sia-india.com/event/communicasia/
CATEGORIES:International Events
END:VEVENT
END:VCALENDAR