BEGIN:VCALENDAR
VERSION:2.0
PRODID:-//SatCom Industry Association (SIA-India) - ECPv6.15.20//NONSGML v1.0//EN
CALSCALE:GREGORIAN
METHOD:PUBLISH
X-ORIGINAL-URL:https://www.sia-india.com
X-WR-CALDESC:Events for SatCom Industry Association (SIA-India)
REFRESH-INTERVAL;VALUE=DURATION:PT1H
X-Robots-Tag:noindex
X-PUBLISHED-TTL:PT1H
BEGIN:VTIMEZONE
TZID:Asia/Kolkata
BEGIN:STANDARD
TZOFFSETFROM:+0530
TZOFFSETTO:+0530
TZNAME:IST
DTSTART:20201231T183000
END:STANDARD
END:VTIMEZONE
BEGIN:VEVENT
DTSTART;VALUE=DATE:20220509
DTEND;VALUE=DATE:20220511
DTSTAMP:20260422T234148
CREATED:20220225T042544Z
LAST-MODIFIED:20220225T042544Z
UID:950-1652121000-1652293799@www.sia-india.com
SUMMARY:Creating a strong Space Start-ups ecosystem with B2B Engagements
DESCRIPTION:Collaborative innovation is a hot topic in the B2B space. Global Collaboration\, Not Competition\, is the Future of the Space Industry. This Conference aims at building a robust collaborative B2B relationships between Indian start-ups and enterprises of different countries. There must be a well plan on how such partnerships between business would give rise to many successful associations leveraging on each other’s strengths.
URL:https://www.sia-india.com/event/creating-a-strong-space-start-ups-ecosystem-with-b2b-engagements/
LOCATION:Virtual + Physical
CATEGORIES:Physical,SIA-India Events,Virtual
END:VEVENT
END:VCALENDAR